BEGIN:VCALENDAR
VERSION:2.0
PRODID:-//hacksw/handcal//NONSGML v1.0//EN
BEGIN:VEVENT
SUMMARY:Quand la Poses s'impose
UID:5e62da86-185e-4cf1-97f6-0ff40c367305
DTSTART:20260425T120000Z
DTEND:20260425T153000Z
LOCATION:Localisation rue des Ecluses 27380 Amfreville sous les Monts
CATEGORIES:Sportif
STATUS:
DESCRIPTION:<p>Une petite Poses. Bon, c'est potentiellement un
 endroit sportif!!!</p>
 
 <p>Rendez-vous rive droite. Attention pour
 les Eurois, les gauchos de la rive, la passerelle pietons est fermee
 apres un accident de peniche, dixit Jean Luc.</p>
 
 <p>Au programme???
 Bah, dites en mesage lors de votre inscription si vous etes motives
 par de la rando calmos ou les montagnes russes locales... Je
 m'adapte.</p>
 
 <p>Si vous avez le temps, on ira voir si la guinguette
 est ouverte pour se rafraichir en post sortie pour une vraie
 pause.</p>
URL;VALUE=URI:https://www.vttrouen.com/evenements/2026/04/25/quand-la-poses-simpose-2444535
END:VEVENT
END:VCALENDAR
