BEGIN:VCALENDAR
VERSION:2.0
PRODID:-//hacksw/handcal//NONSGML v1.0//EN
BEGIN:VEVENT
SUMMARY:Quincampoix by Claudine et Bob
UID:4547918b-b632-4df4-a4aa-7e0f6a438b83
DTSTART:20260423T120000Z
DTEND:20260423T150000Z
LOCATION:Localisation   
CATEGORIES:Sportif
STATUS:
DESCRIPTION:<p>Rendez-vous a Quincampoix chez Claudine et Bob.</p>
URL;VALUE=URI:https://www.vttrouen.com/evenements/2026/04/23/quincampoix-by-claudine-et-bob-2443562
END:VEVENT
END:VCALENDAR
