BEGIN:VCALENDAR
VERSION:2.0
PRODID:-//hacksw/handcal//NONSGML v1.0//EN
BEGIN:VEVENT
SUMMARY:Ponto Bike 2026
UID:c11395c8-12c4-4114-ac44-4d18bafa8bf7
DTSTART:20260419T060000Z
DTEND:20260419T110000Z
LOCATION:Localisation Salle des fetes
Rue de la Poste 27290 Pont-Authou
CATEGORIES:Sportif
STATUS:
DESCRIPTION:VTT 60km
 D+805m<div>Inscription: https://www.helloasso.com/associations/acpa-pont-audemer/evenements/4-eme-ponto-bike-risle</div>
URL;VALUE=URI:https://www.vttrouen.com/evenements/2026/04/19/ponto-bike-2026-2441754
END:VEVENT
END:VCALENDAR
