BEGIN:VCALENDAR
VERSION:2.0
PRODID:-//hacksw/handcal//NONSGML v1.0//EN
BEGIN:VEVENT
SUMMARY:stage Suisse Normande
UID:f317d4bc-e6fd-4dc5-a189-c1bcc3ae0061
DTSTART:20260411T080000Z
DTEND:20260412T160000Z
LOCATION:Localisation  14260 ondefontaine
CATEGORIES:Sportif
STATUS:
DESCRIPTION:<p>Samedi: stage pilotage avec fabien
 Smoothbiking.</p>
 
 <p>Dimanche: rando en Suisse Normande.</p>
URL;VALUE=URI:https://www.vttrouen.com/evenements/2026/04/11/stage-suisse-normande-2439093
END:VEVENT
END:VCALENDAR
