BEGIN:VCALENDAR
VERSION:2.0
PRODID:-//hacksw/handcal//NONSGML v1.0//EN
BEGIN:VEVENT
SUMMARY:Parking du centre sportif Germinal de Oissel (Arnaud)
UID:20e1d548-1bd3-4f38-a40e-d902f8c46c3f
DTSTART:20260405T070000Z
DTEND:20260405T100000Z
LOCATION:Localisation 2 avenue d'Anderten 76350 Oissel
CATEGORIES:Sportif
STATUS:
URL;VALUE=URI:https://www.vttrouen.com/evenements/2026/04/05/parking-du-centre-sportif-germinal-de-oissel-arnaud-2438111
END:VEVENT
END:VCALENDAR
